BEGIN:VCALENDAR
VERSION:2.0
METHOD:PUBLISH
X-WR-CALNAME:InterRidge :: International Cooperation in Ridge-Crest Studies |  août 22 2012- août 22 2012
PRODID:-//strange bird labs//Drupal iCal API//EN
BEGIN:VEVENT
DTSTAMP;VALUE=DATE-TIME:20260303T112708Z
DTSTART;VALUE=DATE-TIME:20120819T130000Z
DTEND;VALUE=DATE-TIME:20120824T210000Z
UID:http://194.254.225.67/fr/node/16779
URL;VALUE=URI:http://194.254.225.67/fr/node/16779
SUMMARY:Rock Deformation Gordon Research Conference\, Hew Hampshire\, USA
DESCRIPTION:<p>Venue\:<br />
 Proctor Academy<br />
 Andover\,<br />
 New Hampshire\, USA</p>
 <p>Further details\:  <a href=\\"http\://www.grc.org/programs.aspx?year=2012&amp\;program=rockdef\\" title=\\"http\://www.grc.org/programs.aspx?year=2012&amp\;program=rockdef\\">http\://www.grc.org/programs.aspx?year=2012&amp\;program=rockdef</a></p>
 
END:VEVENT
END:VCALENDAR
